Package: TPP
Version: 3.32.0
Command: /Library/Frameworks/R.framework/Resources/bin/R CMD build --keep-empty-dirs --no-resave-data TPP
StartedAt: 2024-06-09 18:27:09 -0400 (Sun, 09 Jun 2024)
EndedAt: 2024-06-09 18:28:44 -0400 (Sun, 09 Jun 2024)
EllapsedTime: 94.8 seconds
RetCode: 1
Status: ERROR
PackageFile: None
PackageFileSize: NA