Package: TOP
Version: 1.4.0
Maintainer: Harry Robertson
MaintainerEmail: harry.robertson at sydney.edu.au
git_url: https://git.bioconductor.org/packages/TOP
git_branch: RELEASE_3_19
git_last_commit: 0a357db
git_last_commit_date: 2024-04-30 11:49:24 -0400 (Tue, 30 Apr 2024)