Package: TOAST Version: 1.18.0 Command: E:\biocbuild\bbs-3.19-bioc\R\bin\R.exe CMD INSTALL TOAST StartedAt: 2024-10-16 16:18:23 -0400 (Wed, 16 Oct 2024) EndedAt: 2024-10-16 16:18:58 -0400 (Wed, 16 Oct 2024) EllapsedTime: 35.4 seconds RetCode: 0 Status: OK