Package: TOAST
Version: 1.18.0
Command: E:\biocbuild\bbs-3.19-bioc\R\bin\R.exe CMD check --no-multiarch --install=check:TOAST.install-out.txt --library=E:\biocbuild\bbs-3.19-bioc\R\library --no-vignettes --timings TOAST_1.18.0.tar.gz
StartedAt: 2024-10-17 06:33:42 -0400 (Thu, 17 Oct 2024)
EndedAt: 2024-10-17 06:38:51 -0400 (Thu, 17 Oct 2024)
EllapsedTime: 308.6 seconds
RetCode: 0
Status: OK
CheckDir: TOAST.Rcheck
Warnings: 0