Package: TOAST Version: 1.18.0 Command: chmod a+r TOAST -R && E:\biocbuild\bbs-3.19-bioc\R\bin\R.exe CMD build --keep-empty-dirs --no-resave-data TOAST StartedAt: 2024-10-16 22:22:11 -0400 (Wed, 16 Oct 2024) EndedAt: 2024-10-16 22:25:22 -0400 (Wed, 16 Oct 2024) EllapsedTime: 191.2 seconds RetCode: 0 Status: OK PackageFile: TOAST_1.18.0.tar.gz PackageFileSize: 3.219 <A href="http://en.wikipedia.org/wiki/MiB" target="_blank">MiB</A>