Package: TOAST
Version: 1.18.0
Command: F:\biocbuild\bbs-3.19-bioc\R\bin\R.exe CMD INSTALL TOAST
StartedAt: 2024-06-26 15:50:52 -0400 (Wed, 26 Jun 2024)
EndedAt: 2024-06-26 15:51:29 -0400 (Wed, 26 Jun 2024)
EllapsedTime: 37.4 seconds
RetCode: 0
Status: OK