Package: TOAST
Version: 1.18.0
Command: /home/biocbuild/bbs-3.19-bioc/R/bin/R CMD INSTALL TOAST
StartedAt: 2024-10-16 15:58:21 -0400 (Wed, 16 Oct 2024)
EndedAt: 2024-10-16 15:58:44 -0400 (Wed, 16 Oct 2024)
EllapsedTime: 23.3 seconds
RetCode: 0
Status: OK