##############################################################################
##############################################################################
###
### Running command:
###
###   F:\biocbuild\bbs-3.19-bioc\R\bin\R.exe CMD check --no-multiarch --install=check:TFutils.install-out.txt --library=F:\biocbuild\bbs-3.19-bioc\R\library --no-vignettes --timings TFutils_1.24.0.tar.gz
###
##############################################################################
##############################################################################


* using log directory 'F:/biocbuild/bbs-3.19-bioc/meat/TFutils.Rcheck'
* using R version 4.4.0 (2024-04-24 ucrt)
* using platform: x86_64-w64-mingw32
* R was compiled by
    gcc.exe (GCC) 13.2.0
    GNU Fortran (GCC) 13.2.0
* running under: Windows Server 2022 x64 (build 20348)
* using session charset: UTF-8
* using option '--no-vignettes'
* checking for file 'TFutils/DESCRIPTION' ... OK
* this is package 'TFutils' version '1.24.0'
* package encoding: UTF-8
* checking package namespace information ... OK
* checking package dependencies ... OK
* checking if this is a source package ... OK
* checking if there is a namespace ... OK
* checking for hidden files and directories ... OK
* checking for portable file names ... OK
* checking whether package 'TFutils' can be installed ... OK
* checking installed package size ... NOTE
  installed size is  5.3Mb
  sub-directories of 1Mb or more:
    data      3.4Mb
    lambert   1.4Mb
* checking package directory ... OK
* checking 'build' directory ... OK
* checking DESCRIPTION meta-information ... OK
* checking top-level files ... OK
* checking for left-over files ... OK
* checking index information ... OK
* checking package subdirectories ... OK
* checking code files for non-ASCII characters ... OK
* checking R files for syntax errors ... OK
* checking whether the package can be loaded ... OK
* checking whether the package can be loaded with stated dependencies ... OK
* checking whether the package can be unloaded cleanly ... OK
* checking whether the namespace can be loaded with stated dependencies ... OK
* checking whether the namespace can be unloaded cleanly ... OK
* checking dependencies in R code ... OK
* checking S3 generic/method consistency ... OK
* checking replacement functions ... OK
* checking foreign function calls ... OK
* checking R code for possible problems ... NOTE
fimo_granges : proctext: warning in read.delim(con, h = FALSE,
  stringsAsFactors = FALSE, sep = "\t"): partial argument match of 'h'
  to 'header'
setupHIZE: warning in read.delim(txtfn, sep = "\t", skip = 3, h =
  FALSE, stringsAsFactors = FALSE): partial argument match of 'h' to
  'header'
directHitsInCISBP: no visible binding for global variable
  'DISEASE.TRAIT'
directHitsInCISBP: no visible binding for global variable 'MAPPED_GENE'
directHitsInCISBP: no visible binding for global variable 'cisbpTFcat'
directHitsInCISBP: no visible binding for global variable 'HGNC'
directHitsInCISBP: no visible binding for global variable 'Family_Name'
fimo_granges: no visible global function definition for 'rowRanges<-'
fimo_granges: no visible global function definition for 'reduceByRange'
fimo_granges : <anonymous>: no visible global function definition for
  'seqinfo<-'
tffamCirc.prep: no visible binding for global variable 'TF family'
tffamCirc.prep: no visible binding for global variable 'TFfamily'
tffamCirc.prep: no visible binding for global variable 'Transcription
  factor'
topTraitsOfTargets: no visible global function definition for 'mcols'
topTraitsOfTargets: no visible binding for global variable
  'DISEASE.TRAIT'
Undefined global functions or variables:
  DISEASE.TRAIT Family_Name HGNC MAPPED_GENE TF family TFfamily
  Transcription factor cisbpTFcat mcols reduceByRange rowRanges<-
  seqinfo<-
Consider adding
  importFrom("base", "factor")
  importFrom("stats", "family")
to your NAMESPACE file.
* checking Rd files ... OK
* checking Rd metadata ... OK
* checking Rd cross-references ... OK
* checking for missing documentation entries ... OK
* checking for code/documentation mismatches ... OK
* checking Rd \usage sections ... OK
* checking Rd contents ... OK
* checking for unstated dependencies in examples ... OK
* checking contents of 'data' directory ... OK
* checking data for non-ASCII characters ... NOTE
  Note: found 62 marked UTF-8 strings
* checking LazyData ... OK
* checking data for ASCII and uncompressed saves ... OK
* checking line endings in Makefiles ... OK
* checking for GNU extensions in Makefiles ... OK
* checking include directives in Makefiles ... OK
* checking files in 'vignettes' ... OK
* checking examples ... OK
Examples with CPU (user + system) or elapsed time > 5s
                    user system elapsed
tffamCirc.plot     20.47   0.72   21.31
topTraitsOfTargets 18.36   0.65   18.97
tffamCirc.prep     11.55   0.11   11.65
fimo16             10.07   0.53   10.59
genemodForGviz      7.52   0.73    8.40
* checking for unstated dependencies in 'tests' ... OK
* checking tests ...
  Running 'testthat.R'
 OK
* checking for unstated dependencies in vignettes ... OK
* checking package vignettes ... OK
* checking running R code from vignettes ... SKIPPED
* checking re-building of vignette outputs ... SKIPPED
* checking PDF version of manual ... OK
* DONE

Status: 3 NOTEs
See
  'F:/biocbuild/bbs-3.19-bioc/meat/TFutils.Rcheck/00check.log'
for details.