Package: TFHAZ Version: 1.26.0 Maintainer: Gaia Ceddia MaintainerEmail: gaia.ceddia at polimi.it git_url: https://git.bioconductor.org/packages/TFHAZ git_branch: RELEASE_3_19 git_last_commit: cfea463 git_last_commit_date: 2024-04-30 11:00:21 -0400 (Tue, 30 Apr 2024)