Package: TCC
Version: 1.44.0
Command: /home/biocbuild/bbs-3.19-bioc/R/bin/R CMD INSTALL TCC
StartedAt: 2024-10-16 16:03:19 -0400 (Wed, 16 Oct 2024)
EndedAt: 2024-10-16 16:03:47 -0400 (Wed, 16 Oct 2024)
EllapsedTime: 28.7 seconds
RetCode: 0
Status: OK