Package: TCC
Version: 1.44.0
Command: /home/biocbuild/bbs-3.19-bioc/R/bin/R CMD check --install=check:TCC.install-out.txt --library=/home/biocbuild/bbs-3.19-bioc/R/site-library --timings TCC_1.44.0.tar.gz
StartedAt: 2024-10-17 05:47:35 -0400 (Thu, 17 Oct 2024)
EndedAt: 2024-10-17 05:52:56 -0400 (Thu, 17 Oct 2024)
EllapsedTime: 320.6 seconds
RetCode: 0
Status: OK
CheckDir: TCC.Rcheck
Warnings: 0