Package: TBSignatureProfiler
Version: 1.16.0
Maintainer: Aubrey R. Odom
MaintainerEmail: aodom at bu.edu
git_url: https://git.bioconductor.org/packages/TBSignatureProfiler
git_branch: RELEASE_3_19
git_last_commit: 5f3c2c3
git_last_commit_date: 2024-04-30 11:23:30 -0400 (Tue, 30 Apr 2024)