Package: TADCompare
Version: 1.14.0
Maintainer: Mikhail Dozmorov
MaintainerEmail: mikhail.dozmorov at gmail.com
git_url: https://git.bioconductor.org/packages/TADCompare
git_branch: RELEASE_3_19
git_last_commit: 6adb4a7
git_last_commit_date: 2024-04-30 11:24:18 -0400 (Tue, 30 Apr 2024)