Package: SynExtend
Version: 1.16.0
Command: F:\biocbuild\bbs-3.19-bioc\R\bin\R.exe CMD INSTALL SynExtend
StartedAt: 2024-06-26 15:55:40 -0400 (Wed, 26 Jun 2024)
EndedAt: 2024-06-26 15:56:23 -0400 (Wed, 26 Jun 2024)
EllapsedTime: 43.7 seconds
RetCode: 0
Status: OK