Package: SynExtend Version: 1.16.0 Command: /home/biocbuild/R/R-beta-2024-04-15_r86425/bin/R CMD check --install=check:SynExtend.install-out.txt --library=/home/biocbuild/R/R-beta-2024-04-15_r86425/site-library --no-vignettes --timings SynExtend_1.16.0.tar.gz StartedAt: 2024-05-08 12:32:24 -0000 (Wed, 08 May 2024) EndedAt: 2024-05-08 12:41:40 -0000 (Wed, 08 May 2024) EllapsedTime: 556.1 seconds RetCode: 0 Status: WARNINGS CheckDir: SynExtend.Rcheck Warnings: 2