Package: SynExtend
Version: 1.16.0
Command: /home/biocbuild/R/R-beta-2024-04-15_r86425/bin/R CMD build --keep-empty-dirs --no-resave-data SynExtend
StartedAt: 2024-05-09 04:01:43 -0000 (Thu, 09 May 2024)
EndedAt: 2024-05-09 04:02:59 -0000 (Thu, 09 May 2024)
EllapsedTime: 76.1 seconds
RetCode: 0
Status: OK
PackageFile: SynExtend_1.16.0.tar.gz
PackageFileSize: 3.412 <A href="http://en.wikipedia.org/wiki/MiB" target="_blank">MiB</A>