Package: SynExtend Version: 1.16.0 Maintainer: Nicholas Cooley MaintainerEmail: npc19 at pitt.edu git_url: https://git.bioconductor.org/packages/SynExtend git_branch: RELEASE_3_19 git_last_commit: 4426e94 git_last_commit_date: 2024-04-30 11:23:46 -0400 (Tue, 30 Apr 2024)