Package: Summix
Version: 2.10.0
Maintainer: Audrey Hendricks
MaintainerEmail: audrey.hendricks at cuanschutz.edu
git_url: https://git.bioconductor.org/packages/Summix
git_branch: RELEASE_3_19
git_last_commit: 46a2ac5
git_last_commit_date: 2024-04-30 11:31:13 -0400 (Tue, 30 Apr 2024)