Package: SummarizedBenchmark
Version: 2.22.0
Maintainer: Patrick Kimes
MaintainerEmail: patrick.kimes at gmail.com
git_url: https://git.bioconductor.org/packages/SummarizedBenchmark
git_branch: RELEASE_3_19
git_last_commit: 191c827
git_last_commit_date: 2024-04-30 11:04:49 -0400 (Tue, 30 Apr 2024)