Package: SubCellBarCode
Version: 1.20.0
Maintainer: Taner Arslan
MaintainerEmail: taner.arslan at ki.se
git_url: https://git.bioconductor.org/packages/SubCellBarCode
git_branch: RELEASE_3_19
git_last_commit: e78663e
git_last_commit_date: 2024-04-30 11:14:57 -0400 (Tue, 30 Apr 2024)