Package: Streamer
Version: 1.50.0
Maintainer: Martin Morgan
MaintainerEmail: martin.morgan at roswellpark.org
git_url: https://git.bioconductor.org/packages/Streamer
git_branch: RELEASE_3_19
git_last_commit: 680f4d6
git_last_commit_date: 2024-04-30 10:25:06 -0400 (Tue, 30 Apr 2024)