Package: SpectralTAD
Version: 1.20.0
Maintainer: Mikhail Dozmorov
MaintainerEmail: mikhail.dozmorov at gmail.com
git_url: https://git.bioconductor.org/packages/SpectralTAD
git_branch: RELEASE_3_19
git_last_commit: a132d8c
git_last_commit_date: 2024-04-30 11:12:40 -0400 (Tue, 30 Apr 2024)