Package: SomaticSignatures
Version: 2.40.0
Command: /home/biocbuild/bbs-3.19-bioc/R/bin/R CMD INSTALL SomaticSignatures
StartedAt: 2024-10-16 16:22:52 -0400 (Wed, 16 Oct 2024)
EndedAt: 2024-10-16 16:23:47 -0400 (Wed, 16 Oct 2024)
EllapsedTime: 54.5 seconds
RetCode: 0
Status: OK