Package: SomaticSignatures
Version: 2.40.0
Command: /home/biocbuild/bbs-3.19-bioc/R/bin/R CMD check --install=check:SomaticSignatures.install-out.txt --library=/home/biocbuild/bbs-3.19-bioc/R/site-library --timings SomaticSignatures_2.40.0.tar.gz
StartedAt: 2024-10-17 05:19:55 -0400 (Thu, 17 Oct 2024)
EndedAt: 2024-10-17 05:28:46 -0400 (Thu, 17 Oct 2024)
EllapsedTime: 531.1 seconds
RetCode: 0
Status: OK
CheckDir: SomaticSignatures.Rcheck
Warnings: 0