Package: SomaticSignatures
Version: 2.40.0
Command: /Library/Frameworks/R.framework/Resources/bin/R CMD INSTALL SomaticSignatures
StartedAt: 2024-10-16 16:06:23 -0400 (Wed, 16 Oct 2024)
EndedAt: 2024-10-16 16:08:28 -0400 (Wed, 16 Oct 2024)
EllapsedTime: 125.7 seconds
RetCode: 0
Status: OK