Package: SomaticSignatures
Version: 2.40.0
Command: /Library/Frameworks/R.framework/Resources/bin/R CMD INSTALL SomaticSignatures
StartedAt: 2024-06-09 15:27:06 -0400 (Sun, 09 Jun 2024)
EndedAt: 2024-06-09 15:28:21 -0400 (Sun, 09 Jun 2024)
EllapsedTime: 74.8 seconds
RetCode: 0
Status: OK