Package: SomaticSignatures
Version: 2.40.0
Command: /Library/Frameworks/R.framework/Resources/bin/R CMD build --keep-empty-dirs --no-resave-data SomaticSignatures
StartedAt: 2024-06-09 18:16:06 -0400 (Sun, 09 Jun 2024)
EndedAt: 2024-06-09 18:19:01 -0400 (Sun, 09 Jun 2024)
EllapsedTime: 175.4 seconds
RetCode: 0
Status: OK
PackageFile: SomaticSignatures_2.40.0.tar.gz
PackageFileSize: 2.817 <A href="http://en.wikipedia.org/wiki/MiB" target="_blank">MiB</A>