Package: SomaticSignatures
Version: 2.40.0
Command: rm -rf SomaticSignatures.buildbin-libdir && mkdir SomaticSignatures.buildbin-libdir && /Users/biocbuild/BBS/utils/build-universal.sh SomaticSignatures_2.40.0.tar.gz /Library/Frameworks/R.framework/Resources/bin/R SomaticSignatures.buildbin-libdir
StartedAt: 2024-06-10 00:41:02 -0400 (Mon, 10 Jun 2024)
EndedAt: 2024-06-10 00:42:21 -0400 (Mon, 10 Jun 2024)
EllapsedTime: 78.9 seconds
RetCode: 0
Status: OK
PackageFile: SomaticSignatures_2.40.0.tgz
PackageFileSize: 3.508 <A href="http://en.wikipedia.org/wiki/MiB" target="_blank">MiB</A>