Package: SomaticSignatures
Version: 2.40.0
Command: /home/biocbuild/R/R-beta-2024-04-15_r86425/bin/R CMD check --install=check:SomaticSignatures.install-out.txt --library=/home/biocbuild/R/R-beta-2024-04-15_r86425/site-library --no-vignettes --timings SomaticSignatures_2.40.0.tar.gz
StartedAt: 2024-05-09 12:07:27 -0000 (Thu, 09 May 2024)
EndedAt: 2024-05-09 12:16:58 -0000 (Thu, 09 May 2024)
EllapsedTime: 570.9 seconds
RetCode: 0
Status: OK
CheckDir: SomaticSignatures.Rcheck
Warnings: 0