Package: SomaticSignatures
Version: 2.40.0
Command: /home/biocbuild/R/R-beta-2024-04-15_r86425/bin/R CMD build --keep-empty-dirs --no-resave-data SomaticSignatures
StartedAt: 2024-05-09 03:44:22 -0000 (Thu, 09 May 2024)
EndedAt: 2024-05-09 03:48:25 -0000 (Thu, 09 May 2024)
EllapsedTime: 242.3 seconds
RetCode: 0
Status: OK
PackageFile: SomaticSignatures_2.40.0.tar.gz
PackageFileSize: 1.983 <A href="http://en.wikipedia.org/wiki/MiB" target="_blank">MiB</A>