Package: SomaticSignatures
Version: 2.40.0
Command: rm -rf SomaticSignatures.buildbin-libdir && mkdir SomaticSignatures.buildbin-libdir && /Users/biocbuild/BBS/utils/build-universal.sh SomaticSignatures_2.40.0.tar.gz /Library/Frameworks/R.framework/Resources/bin/R SomaticSignatures.buildbin-libdir
StartedAt: 2024-06-11 13:20:08 -0400 (Tue, 11 Jun 2024)
EndedAt: 2024-06-11 13:22:04 -0400 (Tue, 11 Jun 2024)
EllapsedTime: 116.2 seconds
RetCode: 0
Status: OK
PackageFile: SomaticSignatures_2.40.0.tgz
PackageFileSize: 3.507 <A href="http://en.wikipedia.org/wiki/MiB" target="_blank">MiB</A>