Package: SeqSQC
Version: 1.26.0
Command: E:\biocbuild\bbs-3.19-bioc\R\bin\R.exe CMD check --no-multiarch --install=check:SeqSQC.install-out.txt --library=E:\biocbuild\bbs-3.19-bioc\R\library --no-vignettes --timings SeqSQC_1.26.0.tar.gz
StartedAt: 2024-10-17 05:42:38 -0400 (Thu, 17 Oct 2024)
EndedAt: 2024-10-17 05:47:20 -0400 (Thu, 17 Oct 2024)
EllapsedTime: 282.2 seconds
RetCode: 0
Status: WARNINGS
CheckDir: SeqSQC.Rcheck
Warnings: 1