Package: SeqArray Version: 1.44.3 Maintainer: Xiuwen Zheng MaintainerEmail: zhengx at u.washington.edu git_url: https://git.bioconductor.org/packages/SeqArray git_branch: RELEASE_3_19 git_last_commit: 3a594a2 git_last_commit_date: 2024-09-29 15:48:35 -0400 (Sun, 29 Sep 2024)