Package: SemDist
Version: 1.38.0
Command: E:\biocbuild\bbs-3.19-bioc\R\bin\R.exe CMD INSTALL SemDist
StartedAt: 2024-10-16 16:18:48 -0400 (Wed, 16 Oct 2024)
EndedAt: 2024-10-16 16:19:22 -0400 (Wed, 16 Oct 2024)
EllapsedTime: 34.0 seconds
RetCode: 0
Status: OK