Package: SemDist
Version: 1.38.0
Command: chmod a+r SemDist -R && F:\biocbuild\bbs-3.19-bioc\R\bin\R.exe CMD build --keep-empty-dirs --no-resave-data SemDist
StartedAt: 2024-06-26 21:52:22 -0400 (Wed, 26 Jun 2024)
EndedAt: 2024-06-26 21:53:14 -0400 (Wed, 26 Jun 2024)
EllapsedTime: 52.8 seconds
RetCode: 0
Status: OK
PackageFile: SemDist_1.38.0.tar.gz
PackageFileSize: 1.859 <A href="http://en.wikipedia.org/wiki/MiB" target="_blank">MiB</A>