Package: SemDist
Version: 1.38.0
Command: /home/biocbuild/bbs-3.19-bioc/R/bin/R CMD build --keep-empty-dirs --no-resave-data SemDist
StartedAt: 2024-10-16 20:47:34 -0400 (Wed, 16 Oct 2024)
EndedAt: 2024-10-16 20:48:06 -0400 (Wed, 16 Oct 2024)
EllapsedTime: 32.1 seconds
RetCode: 0
Status: OK
PackageFile: SemDist_1.38.0.tar.gz
PackageFileSize: 1.856 <A href="http://en.wikipedia.org/wiki/MiB" target="_blank">MiB</A>