Package: SemDist Version: 1.38.0 Command: /Library/Frameworks/R.framework/Resources/bin/R CMD build --keep-empty-dirs --no-resave-data SemDist StartedAt: 2024-10-16 23:14:02 -0400 (Wed, 16 Oct 2024) EndedAt: 2024-10-16 23:15:41 -0400 (Wed, 16 Oct 2024) EllapsedTime: 99.1 seconds RetCode: 0 Status: OK PackageFile: SemDist_1.38.0.tar.gz PackageFileSize: 1.953 <A href="http://en.wikipedia.org/wiki/MiB" target="_blank">MiB</A>