Package: SemDist
Version: 1.38.0
Command: rm -rf SemDist.buildbin-libdir && mkdir SemDist.buildbin-libdir && /Users/biocbuild/BBS/utils/build-universal.sh SemDist_1.38.0.tar.gz /Library/Frameworks/R.framework/Resources/bin/R SemDist.buildbin-libdir
StartedAt: 2024-06-10 00:39:19 -0400 (Mon, 10 Jun 2024)
EndedAt: 2024-06-10 00:39:40 -0400 (Mon, 10 Jun 2024)
EllapsedTime: 21.5 seconds
RetCode: 0
Status: OK
PackageFile: SemDist_1.38.0.tgz
PackageFileSize: 1.99 <A href="http://en.wikipedia.org/wiki/MiB" target="_blank">MiB</A>