Package: Scale4C
Version: 1.26.0
Maintainer: Carolin Walter
MaintainerEmail: carolin.walter at uni-muenster.de
git_url: https://git.bioconductor.org/packages/Scale4C
git_branch: RELEASE_3_19
git_last_commit: d4ca4e2
git_last_commit_date: 2024-04-30 10:58:33 -0400 (Tue, 30 Apr 2024)