Package: SRAdb
Version: 1.66.0
Maintainer: Jack Zhu
MaintainerEmail: zhujack at mail.nih.gov
git_url: https://git.bioconductor.org/packages/SRAdb
git_branch: RELEASE_3_19
git_last_commit: 35420e5
git_last_commit_date: 2024-04-30 10:21:45 -0400 (Tue, 30 Apr 2024)