Package: SPsimSeq
Version: 1.14.0
Command: /Library/Frameworks/R.framework/Resources/bin/R CMD INSTALL SPsimSeq
StartedAt: 2024-06-09 15:35:11 -0400 (Sun, 09 Jun 2024)
EndedAt: 2024-06-09 15:35:55 -0400 (Sun, 09 Jun 2024)
EllapsedTime: 44.7 seconds
RetCode: 0
Status: OK