Package: SPsimSeq
Version: 1.14.0
Command: rm -rf SPsimSeq.buildbin-libdir && mkdir SPsimSeq.buildbin-libdir && /Users/biocbuild/BBS/utils/build-universal.sh SPsimSeq_1.14.0.tar.gz /Library/Frameworks/R.framework/Resources/bin/R SPsimSeq.buildbin-libdir
StartedAt: 2024-06-10 00:42:01 -0400 (Mon, 10 Jun 2024)
EndedAt: 2024-06-10 00:42:50 -0400 (Mon, 10 Jun 2024)
EllapsedTime: 48.7 seconds
RetCode: 0
Status: OK
PackageFile: SPsimSeq_1.14.0.tgz
PackageFileSize: 949.1 <A href="http://en.wikipedia.org/wiki/KiB" target="_blank">KiB</A>