Package: SPONGE Version: 1.26.1 Maintainer: Markus List MaintainerEmail: markus.list at tum.de git_url: https://git.bioconductor.org/packages/SPONGE git_branch: RELEASE_3_19 git_last_commit: 59de73a git_last_commit_date: 2024-08-06 04:24:21 -0400 (Tue, 06 Aug 2024)