Package: SMITE
Version: 1.32.0
Maintainer: Neil Ari Wijetunga
MaintainerEmail: nawijet at gmail.com
git_url: https://git.bioconductor.org/packages/SMITE
git_branch: RELEASE_3_19
git_last_commit: 1dab5bd
git_last_commit_date: 2024-04-30 10:48:07 -0400 (Tue, 30 Apr 2024)