Package: SIMLR
Version: 1.30.0
Maintainer: Luca De Sano
MaintainerEmail: luca.desano at gmail.com
git_url: https://git.bioconductor.org/packages/SIMLR
git_branch: RELEASE_3_19
git_last_commit: db93ba4
git_last_commit_date: 2024-04-30 10:53:51 -0400 (Tue, 30 Apr 2024)