Package: SIMAT
Version: 1.36.0
Maintainer: M. R. Nezami Ranjbar
MaintainerEmail: nranjbar at vt.edu
git_url: https://git.bioconductor.org/packages/SIMAT
git_branch: RELEASE_3_19
git_last_commit: 22ff28c
git_last_commit_date: 2024-04-30 10:42:18 -0400 (Tue, 30 Apr 2024)