Package: SIM
Version: 1.74.0
Command: /Library/Frameworks/R.framework/Resources/bin/R CMD INSTALL SIM
StartedAt: 2024-06-09 15:34:05 -0400 (Sun, 09 Jun 2024)
EndedAt: 2024-06-09 15:34:31 -0400 (Sun, 09 Jun 2024)
EllapsedTime: 25.4 seconds
RetCode: 0
Status: OK