Package: SIM Version: 1.74.0 Command: /Library/Frameworks/R.framework/Resources/bin/R CMD build --keep-empty-dirs --no-resave-data SIM StartedAt: 2024-06-09 18:12:43 -0400 (Sun, 09 Jun 2024) EndedAt: 2024-06-09 18:13:28 -0400 (Sun, 09 Jun 2024) EllapsedTime: 44.9 seconds RetCode: 0 Status: OK PackageFile: SIM_1.74.0.tar.gz PackageFileSize: 460.6 <A href="http://en.wikipedia.org/wiki/KiB" target="_blank">KiB</A>