Package: SIM
Version: 1.74.0
Command: rm -rf SIM.buildbin-libdir && mkdir SIM.buildbin-libdir && /Users/biocbuild/BBS/utils/build-universal.sh SIM_1.74.0.tar.gz /Library/Frameworks/R.framework/Resources/bin/R SIM.buildbin-libdir
StartedAt: 2024-06-10 00:40:22 -0400 (Mon, 10 Jun 2024)
EndedAt: 2024-06-10 00:40:52 -0400 (Mon, 10 Jun 2024)
EllapsedTime: 29.8 seconds
RetCode: 0
Status: OK
PackageFile: SIM_1.74.0.tgz
PackageFileSize: 615.2 <A href="http://en.wikipedia.org/wiki/KiB" target="_blank">KiB</A>