Package: SIM
Version: 1.74.0
Command: /home/biocbuild/R/R-beta-2024-04-15_r86425/bin/R CMD INSTALL SIM
StartedAt: 2024-05-08 20:52:07 -0000 (Wed, 08 May 2024)
EndedAt: 2024-05-08 20:52:33 -0000 (Wed, 08 May 2024)
EllapsedTime: 25.6 seconds
RetCode: 0
Status: OK